BEGIN:VCALENDAR
VERSION:2.0
PRODID:-//Tukios.com/
BEGIN:VEVENT
UID:a8402b38-fce4-449f-979c-006b6a21b626@www.corbeillfuneralhomes.com
DTSTAMP:20260421T225247Z
DTSTART:20260430T173000Z
DTEND:20260430T183000Z
SUMMARY:Funeral Service
DESCRIPTION:
URL:https://www.corbeillfuneralhomes.com/obituaries/edward-schneidmiller
LOCATION: 5 West Broadway Street  Saint John WA 99171
GEO:47.0906185;-117.5824087
END:VEVENT
END:VCALENDAR