BEGIN:VCALENDAR
VERSION:2.0
PRODID:-//Tukios.com/
BEGIN:VEVENT
UID:757e89f9-d62d-4296-b6df-d3763d04ddf4@www.corbeillfuneralhomes.com
DTSTAMP:20260421T230819Z
DTSTART:20260501T180000Z
DTEND:20260501T190000Z
SUMMARY:Funeral Service
DESCRIPTION:
URL:https://www.corbeillfuneralhomes.com/obituaries/jessie-seibert
LOCATION: 203 South 2nd Street  Dayton WA 99328
GEO:46.3194556;-117.9777803
END:VEVENT
END:VCALENDAR