BEGIN:VCALENDAR
VERSION:2.0
PRODID:-//Tukios.com/
BEGIN:VEVENT
UID:eedf4a10-22cd-45e8-bce1-b620d4e8ffb0@www.corbeillfuneralhomes.com
DTSTAMP:20260421T210306Z
DTSTART:20260427T220000Z
DTEND:20260427T230000Z
SUMMARY:Graveside Service
DESCRIPTION:
URL:https://www.corbeillfuneralhomes.com/obituaries/peggy-hall
LOCATION:Ivy Cemetery 7641 WA-124  Prescott WA 99348
GEO:46.3053932;-118.3310027
END:VEVENT
END:VCALENDAR